BEGIN:VCALENDAR
VERSION:2.0
PRODID:-//wp-events-plugin.com//7.2.3.1//EN
TZID:America/New_York
X-WR-TIMEZONE:America/New_York
BEGIN:VEVENT
UID:1@oel.ccny.cuny.edu
DTSTART:20230814T163000Z
DTEND:20230814T193000Z
DTSTAMP:20230406T183945Z
URL:https://oel.ccny.cuny.edu/events/august-regular-council-meeting/
SUMMARY:(August) Regular Council Meeting
DESCRIPTION:Town of Riverside regular city council meeting.
ATTACH;FMTTYPE=image/jpeg:https://oel.ccny.cuny.edu/wp-content/uploads/201
 8/09/edit-gadsden-1616084_1920.jpg
CATEGORIES:Council Meetings
LOCATION:\, \, 
X-APPLE-STRUCTURED-LOCATION;VALUE=URI;X-ADDRESS=\, ;X-APPLE-RADIUS=100;X-TI
 TLE=:geo:0,0
END:VEVENT
END:VCALENDAR